BEGIN:VCALENDAR
VERSION:2.0
PRODID:Events Booking
BEGIN:VEVENT
UID:69ea4ada2228a
SUMMARY:Summer Youth Program
DESCRIPTION:10:00 am to NoonThursday field trip leaves at 9:00 amMonday\, T
 uesday &amp\; Thursday | Ages 6-12Wednesday | Age 5 &amp\; under
LOCATION:251 Main Street\, Mathews\, 23109 Virginia\, United States
DTSTART:20250707T040000Z
DTEND:20250731T040000Z
DTSTAMP:20250512T203319Z
ORGANIZER;CN=Mathews Memorial Library:MAILTO:info@mathewslibrary.org
GEO:37.433489;-76.320543
X-APPLE-STRUCTURED-LOCATION;VALUE=URI;X-ADDRESS=251 Main Street\, Mathews\,
  23109 Virginia\, United States;X-APPLE-RADIUS=72;X-TITLE=Mathews Memorial
  Library:37.433489;-76.320543
END:VEVENT
END:VCALENDAR