BEGIN:VCALENDAR
VERSION:2.0
PRODID:Events Booking
BEGIN:VEVENT
UID:69ea4be7a7b96
SUMMARY:21st Annual Highland Games & Picnic
DESCRIPTION:Featuring the Kilmarnock Pipe Band
 Games | Picnic | Prizes | 
 Free Shirt
DTSTART:20250613T140000Z
DTEND:20250613T160000Z
DTSTAMP:20250429T222403Z
ORGANIZER;CN=Mathews Memorial Library:MAILTO:info@mathewslibrary.org
END:VEVENT
END:VCALENDAR