BEGIN:VCALENDAR
VERSION:2.0
PRODID:Events Booking
BEGIN:VEVENT
UID:69ea3416b3b19
SUMMARY:22nd Annual Highland Games & Picnic
DESCRIPTION:Featuring the Kilmarnock Pipe Band
 &nbsp\;Ages 6 through 14&n
 bsp\;(Adults may join as spectators.)&nbsp\;Register now&nbsp\;or call (80
 4) 725-5747
 Games | Picnic |&nbsp\;Prizes | Free Shirt
DTSTART:20260612T140000Z
DTEND:20260612T160000Z
DTSTAMP:20260422T234408Z
ORGANIZER;CN=Mathews Memorial Library:MAILTO:info@mathewslibrary.org
END:VEVENT
END:VCALENDAR